BEGIN:VCALENDAR
VERSION:2.0
PRODID:-//Siebenbürger Sachsen - ECPv6.15.13//NONSGML v1.0//EN
CALSCALE:GREGORIAN
METHOD:PUBLISH
X-ORIGINAL-URL:http://siebenbuergersachsen-rastatt.de
X-WR-CALDESC:Veranstaltungen für Siebenbürger Sachsen
REFRESH-INTERVAL;VALUE=DURATION:PT1H
X-Robots-Tag:noindex
X-PUBLISHED-TTL:PT1H
BEGIN:VTIMEZONE
TZID:UTC
BEGIN:STANDARD
TZOFFSETFROM:+0000
TZOFFSETTO:+0000
TZNAME:UTC
DTSTART:20240101T000000
END:STANDARD
END:VTIMEZONE
BEGIN:VEVENT
DTSTART;TZID=UTC:20251207T150000
DTEND;TZID=UTC:20251207T180000
DTSTAMP:20260425T172125
CREATED:20250315T032146Z
LAST-MODIFIED:20250315T032751Z
UID:13409-1765119600-1765130400@siebenbuergersachsen-rastatt.de
SUMMARY:Weihnachtsfeier 2025
DESCRIPTION:Weitere Informationen bzw. Ergänzungen werden zu einem späteren Zeitpunkt in veröffentlicht.
URL:http://siebenbuergersachsen-rastatt.de/event/weihnachtsfeier-2025/
ATTACH;FMTTYPE=image/jpeg:http://siebenbuergersachsen-rastatt.de/wp-content/uploads/Weihnachten-einladung.jpg
END:VEVENT
END:VCALENDAR