BEGIN:VCALENDAR
VERSION:2.0
PRODID:-//Siebenbürger Sachsen - ECPv6.15.13//NONSGML v1.0//EN
CALSCALE:GREGORIAN
METHOD:PUBLISH
X-WR-CALNAME:Siebenbürger Sachsen
X-ORIGINAL-URL:http://siebenbuergersachsen-rastatt.de
X-WR-CALDESC:Veranstaltungen für Siebenbürger Sachsen
REFRESH-INTERVAL;VALUE=DURATION:PT1H
X-Robots-Tag:noindex
X-PUBLISHED-TTL:PT1H
BEGIN:VTIMEZONE
TZID:UTC
BEGIN:STANDARD
TZOFFSETFROM:+0000
TZOFFSETTO:+0000
TZNAME:UTC
DTSTART:20240101T000000
END:STANDARD
END:VTIMEZONE
BEGIN:VEVENT
DTSTART;TZID=UTC:20250706T110000
DTEND;TZID=UTC:20250706T190000
DTSTAMP:20260426T031250
CREATED:20250315T030022Z
LAST-MODIFIED:20250315T032653Z
UID:13405-1751799600-1751828400@siebenbuergersachsen-rastatt.de
SUMMARY:Sommerfest 2025
DESCRIPTION:Auch in diesem Jahr laden wir zu unserem traditionellen Sommerfest ein\, am 06.07.2025. \nWeitere Informationen zu dieser Veranstaltung werden wir hier noch bekannt geben. \nDer Vorstand der Kreisgruppe.
URL:http://siebenbuergersachsen-rastatt.de/event/sommerfest-2025/
LOCATION:Sporthalle Niederbühl\, Baulandstr. 6\, Rastatt\, 76437\, Deutschland
ATTACH;FMTTYPE=image/jpeg:http://siebenbuergersachsen-rastatt.de/wp-content/uploads/Sommerfest06-scaled.jpg
ORGANIZER;CN="Verband der Siebenb%C3%BCrger Sachsen Rastatt":MAILTO:Vorstand@siebenbuergersachsen-rastatt.de
END:VEVENT
END:VCALENDAR